BEGIN:VCALENDAR
VERSION:2.0
PRODID:-//The Dharma Institute - ECPv6.15.20//NONSGML v1.0//EN
CALSCALE:GREGORIAN
METHOD:PUBLISH
X-WR-CALNAME:The Dharma Institute
X-ORIGINAL-URL:https://tdibw.com
X-WR-CALDESC:Sự kiện cho The Dharma Institute
REFRESH-INTERVAL;VALUE=DURATION:PT1H
X-Robots-Tag:noindex
X-PUBLISHED-TTL:PT1H
BEGIN:VTIMEZONE
TZID:Asia/Ho_Chi_Minh
BEGIN:STANDARD
TZOFFSETFROM:+0700
TZOFFSETTO:+0700
TZNAME:+07
DTSTART:20250101T000000
END:STANDARD
END:VTIMEZONE
BEGIN:VEVENT
DTSTART;VALUE=DATE:20260303
DTEND;VALUE=DATE:20260304
DTSTAMP:20260424T020708
CREATED:20260306T142107Z
LAST-MODIFIED:20260306T142107Z
UID:6657-1772496000-1772582399@tdibw.com
SUMMARY:FIRE OFFER
DESCRIPTION:
URL:https://tdibw.com/schedule-tdi/fire-offer/
END:VEVENT
BEGIN:VEVENT
DTSTART;VALUE=DATE:20260303
DTEND;VALUE=DATE:20260304
DTSTAMP:20260424T020708
CREATED:20260306T142128Z
LAST-MODIFIED:20260306T142128Z
UID:6659-1772496000-1772582399@tdibw.com
SUMMARY:SOJONG / PHOWA
DESCRIPTION:
URL:https://tdibw.com/schedule-tdi/sojong-phowa-31/
END:VEVENT
BEGIN:VEVENT
DTSTART;VALUE=DATE:20260303
DTEND;VALUE=DATE:20260306
DTSTAMP:20260424T020708
CREATED:20260306T142154Z
LAST-MODIFIED:20260306T142154Z
UID:6661-1772496000-1772755199@tdibw.com
SUMMARY:AMITABHA PRACTICE
DESCRIPTION:
URL:https://tdibw.com/schedule-tdi/amitabha-practice-2/
END:VEVENT
BEGIN:VEVENT
DTSTART;TZID=Asia/Ho_Chi_Minh:20260303T180000
DTEND;TZID=Asia/Ho_Chi_Minh:20260303T220000
DTSTAMP:20260424T020708
CREATED:20260306T140933Z
LAST-MODIFIED:20260306T140933Z
UID:6609-1772560800-1772575200@tdibw.com
SUMMARY:GROUP PRACTICE
DESCRIPTION:
URL:https://tdibw.com/schedule-tdi/group-practice-257/
END:VEVENT
BEGIN:VEVENT
DTSTART;TZID=Asia/Ho_Chi_Minh:20260306T180000
DTEND;TZID=Asia/Ho_Chi_Minh:20260306T220000
DTSTAMP:20260424T020708
CREATED:20260306T141000Z
LAST-MODIFIED:20260306T141000Z
UID:6611-1772820000-1772834400@tdibw.com
SUMMARY:GROUP PRACTICE
DESCRIPTION:
URL:https://tdibw.com/schedule-tdi/group-practice-258/
END:VEVENT
BEGIN:VEVENT
DTSTART;TZID=Asia/Ho_Chi_Minh:20260307T180000
DTEND;TZID=Asia/Ho_Chi_Minh:20260307T190000
DTSTAMP:20260424T020708
CREATED:20260306T141027Z
LAST-MODIFIED:20260306T142621Z
UID:6613-1772906400-1772910000@tdibw.com
SUMMARY:GROUP SÁM HỐI
DESCRIPTION:
URL:https://tdibw.com/schedule-tdi/group-practice-259/
END:VEVENT
BEGIN:VEVENT
DTSTART;TZID=Asia/Ho_Chi_Minh:20260307T200000
DTEND;TZID=Asia/Ho_Chi_Minh:20260307T220000
DTSTAMP:20260424T020708
CREATED:20260306T142802Z
LAST-MODIFIED:20260306T142802Z
UID:6687-1772913600-1772920800@tdibw.com
SUMMARY:DHARMA ZOOM
DESCRIPTION:
URL:https://tdibw.com/schedule-tdi/dharma-zoom-67/
END:VEVENT
BEGIN:VEVENT
DTSTART;VALUE=DATE:20260308
DTEND;VALUE=DATE:20260311
DTSTAMP:20260424T020708
CREATED:20260306T142219Z
LAST-MODIFIED:20260306T142219Z
UID:6663-1772928000-1773187199@tdibw.com
SUMMARY:VAJRASATTVA PRACTICE
DESCRIPTION:
URL:https://tdibw.com/schedule-tdi/vajrasattva-practice-4/
END:VEVENT
BEGIN:VEVENT
DTSTART;TZID=Asia/Ho_Chi_Minh:20260308T180000
DTEND;TZID=Asia/Ho_Chi_Minh:20260308T220000
DTSTAMP:20260424T020708
CREATED:20260306T141055Z
LAST-MODIFIED:20260306T141055Z
UID:6615-1772992800-1773007200@tdibw.com
SUMMARY:GROUP PRACTICE
DESCRIPTION:
URL:https://tdibw.com/schedule-tdi/group-practice-260/
END:VEVENT
BEGIN:VEVENT
DTSTART;TZID=Asia/Ho_Chi_Minh:20260309T180000
DTEND;TZID=Asia/Ho_Chi_Minh:20260309T220000
DTSTAMP:20260424T020708
CREATED:20260306T141126Z
LAST-MODIFIED:20260306T141126Z
UID:6617-1773079200-1773093600@tdibw.com
SUMMARY:GROUP PRACTICE
DESCRIPTION:
URL:https://tdibw.com/schedule-tdi/group-practice-261/
END:VEVENT
BEGIN:VEVENT
DTSTART;TZID=Asia/Ho_Chi_Minh:20260310T180000
DTEND;TZID=Asia/Ho_Chi_Minh:20260310T220000
DTSTAMP:20260424T020708
CREATED:20260306T141152Z
LAST-MODIFIED:20260306T141152Z
UID:6619-1773165600-1773180000@tdibw.com
SUMMARY:GROUP PRACTICE
DESCRIPTION:
URL:https://tdibw.com/schedule-tdi/group-practice-262/
END:VEVENT
BEGIN:VEVENT
DTSTART;TZID=Asia/Ho_Chi_Minh:20260311T180000
DTEND;TZID=Asia/Ho_Chi_Minh:20260311T220000
DTSTAMP:20260424T020708
CREATED:20260306T141221Z
LAST-MODIFIED:20260306T141221Z
UID:6621-1773252000-1773266400@tdibw.com
SUMMARY:GROUP PRACTICE
DESCRIPTION:
URL:https://tdibw.com/schedule-tdi/group-practice-263/
END:VEVENT
BEGIN:VEVENT
DTSTART;TZID=Asia/Ho_Chi_Minh:20260312T180000
DTEND;TZID=Asia/Ho_Chi_Minh:20260312T220000
DTSTAMP:20260424T020708
CREATED:20260306T141248Z
LAST-MODIFIED:20260306T141248Z
UID:6623-1773338400-1773352800@tdibw.com
SUMMARY:GROUP PRACTICE
DESCRIPTION:
URL:https://tdibw.com/schedule-tdi/group-practice-264/
END:VEVENT
BEGIN:VEVENT
DTSTART;VALUE=DATE:20260313
DTEND;VALUE=DATE:20260314
DTSTAMP:20260424T020708
CREATED:20260306T142238Z
LAST-MODIFIED:20260306T142238Z
UID:6665-1773360000-1773446399@tdibw.com
SUMMARY:TSOG DAKINI
DESCRIPTION:
URL:https://tdibw.com/schedule-tdi/tsog-dakini-20/
END:VEVENT
BEGIN:VEVENT
DTSTART;TZID=Asia/Ho_Chi_Minh:20260313T180000
DTEND;TZID=Asia/Ho_Chi_Minh:20260313T220000
DTSTAMP:20260424T020708
CREATED:20260306T141315Z
LAST-MODIFIED:20260306T141315Z
UID:6625-1773424800-1773439200@tdibw.com
SUMMARY:GROUP PRACTICE
DESCRIPTION:
URL:https://tdibw.com/schedule-tdi/group-practice-265/
END:VEVENT
BEGIN:VEVENT
DTSTART;TZID=Asia/Ho_Chi_Minh:20260314T180000
DTEND;TZID=Asia/Ho_Chi_Minh:20260314T190000
DTSTAMP:20260424T020708
CREATED:20260306T141343Z
LAST-MODIFIED:20260306T142648Z
UID:6627-1773511200-1773514800@tdibw.com
SUMMARY:GROUP SÁM HỐI
DESCRIPTION:
URL:https://tdibw.com/schedule-tdi/group-practice-266/
END:VEVENT
BEGIN:VEVENT
DTSTART;TZID=Asia/Ho_Chi_Minh:20260314T200000
DTEND;TZID=Asia/Ho_Chi_Minh:20260314T220000
DTSTAMP:20260424T020708
CREATED:20260306T142829Z
LAST-MODIFIED:20260306T142829Z
UID:6689-1773518400-1773525600@tdibw.com
SUMMARY:DHARMA ZOOM
DESCRIPTION:
URL:https://tdibw.com/schedule-tdi/dharma-zoom-68/
END:VEVENT
BEGIN:VEVENT
DTSTART;TZID=Asia/Ho_Chi_Minh:20260315T180000
DTEND;TZID=Asia/Ho_Chi_Minh:20260315T220000
DTSTAMP:20260424T020708
CREATED:20260306T141417Z
LAST-MODIFIED:20260306T141417Z
UID:6629-1773597600-1773612000@tdibw.com
SUMMARY:GROUP PRACTICE
DESCRIPTION:
URL:https://tdibw.com/schedule-tdi/group-practice-267/
END:VEVENT
BEGIN:VEVENT
DTSTART;TZID=Asia/Ho_Chi_Minh:20260316T180000
DTEND;TZID=Asia/Ho_Chi_Minh:20260316T220000
DTSTAMP:20260424T020708
CREATED:20260306T141446Z
LAST-MODIFIED:20260306T141446Z
UID:6631-1773684000-1773698400@tdibw.com
SUMMARY:GROUP PRACTICE
DESCRIPTION:
URL:https://tdibw.com/schedule-tdi/group-practice-268/
END:VEVENT
BEGIN:VEVENT
DTSTART;TZID=Asia/Ho_Chi_Minh:20260317T180000
DTEND;TZID=Asia/Ho_Chi_Minh:20260317T220000
DTSTAMP:20260424T020708
CREATED:20260306T141515Z
LAST-MODIFIED:20260306T141515Z
UID:6633-1773770400-1773784800@tdibw.com
SUMMARY:GROUP PRACTICE
DESCRIPTION:
URL:https://tdibw.com/schedule-tdi/group-practice-269/
END:VEVENT
BEGIN:VEVENT
DTSTART;TZID=Asia/Ho_Chi_Minh:20260317T220000
DTEND;TZID=Asia/Ho_Chi_Minh:20260317T230000
DTSTAMP:20260424T020708
CREATED:20260306T142301Z
LAST-MODIFIED:20260306T142301Z
UID:6667-1773784800-1773788400@tdibw.com
SUMMARY:ARYA TARA LL
DESCRIPTION:
URL:https://tdibw.com/schedule-tdi/arya-tara-ll-13/
END:VEVENT
BEGIN:VEVENT
DTSTART;VALUE=DATE:20260318
DTEND;VALUE=DATE:20260319
DTSTAMP:20260424T020708
CREATED:20260306T142319Z
LAST-MODIFIED:20260306T142319Z
UID:6669-1773792000-1773878399@tdibw.com
SUMMARY:SOJONG / PHOWA
DESCRIPTION:
URL:https://tdibw.com/schedule-tdi/sojong-phowa-32/
END:VEVENT
BEGIN:VEVENT
DTSTART;TZID=Asia/Ho_Chi_Minh:20260318T180000
DTEND;TZID=Asia/Ho_Chi_Minh:20260318T220000
DTSTAMP:20260424T020708
CREATED:20260306T141539Z
LAST-MODIFIED:20260306T141539Z
UID:6635-1773856800-1773871200@tdibw.com
SUMMARY:GROUP PRACTICE
DESCRIPTION:
URL:https://tdibw.com/schedule-tdi/group-practice-270/
END:VEVENT
BEGIN:VEVENT
DTSTART;TZID=Asia/Ho_Chi_Minh:20260319T180000
DTEND;TZID=Asia/Ho_Chi_Minh:20260319T220000
DTSTAMP:20260424T020708
CREATED:20260306T141605Z
LAST-MODIFIED:20260306T141605Z
UID:6637-1773943200-1773957600@tdibw.com
SUMMARY:GROUP PRACTICE
DESCRIPTION:
URL:https://tdibw.com/schedule-tdi/group-practice-271/
END:VEVENT
BEGIN:VEVENT
DTSTART;TZID=Asia/Ho_Chi_Minh:20260320T180000
DTEND;TZID=Asia/Ho_Chi_Minh:20260320T220000
DTSTAMP:20260424T020708
CREATED:20260306T141634Z
LAST-MODIFIED:20260306T141634Z
UID:6639-1774029600-1774044000@tdibw.com
SUMMARY:GROUP PRACTICE
DESCRIPTION:
URL:https://tdibw.com/schedule-tdi/group-practice-272/
END:VEVENT
BEGIN:VEVENT
DTSTART;VALUE=DATE:20260321
DTEND;VALUE=DATE:20260323
DTSTAMP:20260424T020708
CREATED:20260306T142343Z
LAST-MODIFIED:20260306T142343Z
UID:6671-1774051200-1774223999@tdibw.com
SUMMARY:NYINGNE RETREAT
DESCRIPTION:
URL:https://tdibw.com/schedule-tdi/nyingne-retreat-14/
END:VEVENT
BEGIN:VEVENT
DTSTART;TZID=Asia/Ho_Chi_Minh:20260321T200000
DTEND;TZID=Asia/Ho_Chi_Minh:20260321T220000
DTSTAMP:20260424T020708
CREATED:20260306T142851Z
LAST-MODIFIED:20260306T142851Z
UID:6691-1774123200-1774130400@tdibw.com
SUMMARY:DHARMA ZOOM
DESCRIPTION:
URL:https://tdibw.com/schedule-tdi/dharma-zoom-69/
END:VEVENT
BEGIN:VEVENT
DTSTART;TZID=Asia/Ho_Chi_Minh:20260323T180000
DTEND;TZID=Asia/Ho_Chi_Minh:20260323T220000
DTSTAMP:20260424T020708
CREATED:20260306T141712Z
LAST-MODIFIED:20260306T141712Z
UID:6641-1774288800-1774303200@tdibw.com
SUMMARY:GROUP PRACTICE
DESCRIPTION:
URL:https://tdibw.com/schedule-tdi/group-practice-273/
END:VEVENT
BEGIN:VEVENT
DTSTART;TZID=Asia/Ho_Chi_Minh:20260324T180000
DTEND;TZID=Asia/Ho_Chi_Minh:20260324T220000
DTSTAMP:20260424T020708
CREATED:20260306T141735Z
LAST-MODIFIED:20260306T141735Z
UID:6643-1774375200-1774389600@tdibw.com
SUMMARY:GROUP PRACTICE
DESCRIPTION:
URL:https://tdibw.com/schedule-tdi/group-practice-274/
END:VEVENT
BEGIN:VEVENT
DTSTART;TZID=Asia/Ho_Chi_Minh:20260324T220000
DTEND;TZID=Asia/Ho_Chi_Minh:20260324T230000
DTSTAMP:20260424T020708
CREATED:20260306T142408Z
LAST-MODIFIED:20260306T142408Z
UID:6673-1774389600-1774393200@tdibw.com
SUMMARY:ARYA TARA LL
DESCRIPTION:
URL:https://tdibw.com/schedule-tdi/arya-tara-ll-14/
END:VEVENT
END:VCALENDAR