BEGIN:VCALENDAR
VERSION:2.0
PRODID:-//The Dharma Institute - ECPv6.15.20//NONSGML v1.0//EN
CALSCALE:GREGORIAN
METHOD:PUBLISH
X-WR-CALNAME:The Dharma Institute
X-ORIGINAL-URL:https://tdibw.com
X-WR-CALDESC:Sự kiện cho The Dharma Institute
REFRESH-INTERVAL;VALUE=DURATION:PT1H
X-Robots-Tag:noindex
X-PUBLISHED-TTL:PT1H
BEGIN:VTIMEZONE
TZID:Asia/Ho_Chi_Minh
BEGIN:STANDARD
TZOFFSETFROM:+0700
TZOFFSETTO:+0700
TZNAME:+07
DTSTART:20250101T000000
END:STANDARD
END:VTIMEZONE
BEGIN:VEVENT
DTSTART;TZID=Asia/Ho_Chi_Minh:20260214T200000
DTEND;TZID=Asia/Ho_Chi_Minh:20260214T220000
DTSTAMP:20260424T052843
CREATED:20260208T123001Z
LAST-MODIFIED:20260208T123001Z
UID:6598-1771099200-1771106400@tdibw.com
SUMMARY:DHARMA ZOOM
DESCRIPTION:CHI TIẾT CHƯƠNG TRÌNH: Chúng tôi xin trân trọng thông báo về chương trình thảo luận Phật pháp trực tuyến qua Zoom. Đây là cơ hội để quý Phật tử và những người quan tâm có thể trực tiếp thảo luận\, trao đổi về Phật pháp với TDI. \nĐĂNG KÝ: Quý vị có thể liên hệ trực tiếp qua Facebook tại Gendun0 để nhận thông tin về Zoom ID và mật khẩu. \nLƯU Ý: Để tạo không khí thân mật và hiệu quả\, chúng tôi khuyến khích mọi người mở camera khi tham gia Zoom. \nXin trân trọng kính mời quý vị tham gia và cùng nhau chia sẻ những hiểu biết và trải nghiệm về Phật pháp. \nLiên hệ đăng ký và nhận thông tin Zoom: Facebook: Gendun0 \nChúng tôi mong đợi được gặp quý vị trong buổi thảo luận. Om Ami Dewa Hrih!
URL:https://tdibw.com/schedule-tdi/dharma-zoom-64/
END:VEVENT
BEGIN:VEVENT
DTSTART;TZID=Asia/Ho_Chi_Minh:20260214T180000
DTEND;TZID=Asia/Ho_Chi_Minh:20260214T190000
DTSTAMP:20260424T052843
CREATED:20260208T122451Z
LAST-MODIFIED:20260208T122451Z
UID:6566-1771092000-1771095600@tdibw.com
SUMMARY:GROUP SÁM HỐI
DESCRIPTION:
URL:https://tdibw.com/schedule-tdi/group-sam-hoi-29/
END:VEVENT
BEGIN:VEVENT
DTSTART;TZID=Asia/Ho_Chi_Minh:20260213T180000
DTEND;TZID=Asia/Ho_Chi_Minh:20260213T220000
DTSTAMP:20260424T052843
CREATED:20260208T122100Z
LAST-MODIFIED:20260208T122100Z
UID:6540-1771005600-1771020000@tdibw.com
SUMMARY:GROUP PRACTICE
DESCRIPTION:
URL:https://tdibw.com/schedule-tdi/group-practice-243/
END:VEVENT
BEGIN:VEVENT
DTSTART;TZID=Asia/Ho_Chi_Minh:20260212T180000
DTEND;TZID=Asia/Ho_Chi_Minh:20260212T220000
DTSTAMP:20260424T052843
CREATED:20260208T122042Z
LAST-MODIFIED:20260208T122042Z
UID:6538-1770919200-1770933600@tdibw.com
SUMMARY:GROUP PRACTICE
DESCRIPTION:
URL:https://tdibw.com/schedule-tdi/group-practice-242/
END:VEVENT
BEGIN:VEVENT
DTSTART;TZID=Asia/Ho_Chi_Minh:20260211T180000
DTEND;TZID=Asia/Ho_Chi_Minh:20260211T220000
DTSTAMP:20260424T052843
CREATED:20260208T122026Z
LAST-MODIFIED:20260208T122026Z
UID:6536-1770832800-1770847200@tdibw.com
SUMMARY:GROUP PRACTICE
DESCRIPTION:
URL:https://tdibw.com/schedule-tdi/group-practice-241/
END:VEVENT
BEGIN:VEVENT
DTSTART;VALUE=DATE:20260211
DTEND;VALUE=DATE:20260212
DTSTAMP:20260424T052843
CREATED:20260208T122639Z
LAST-MODIFIED:20260208T122639Z
UID:6578-1770768000-1770854399@tdibw.com
SUMMARY:TSOG DAKINI
DESCRIPTION:
URL:https://tdibw.com/schedule-tdi/tsog-dakini-19/
END:VEVENT
BEGIN:VEVENT
DTSTART;TZID=Asia/Ho_Chi_Minh:20260210T180000
DTEND;TZID=Asia/Ho_Chi_Minh:20260210T220000
DTSTAMP:20260424T052843
CREATED:20260208T122006Z
LAST-MODIFIED:20260208T122006Z
UID:6534-1770746400-1770760800@tdibw.com
SUMMARY:GROUP PRACTICE
DESCRIPTION:
URL:https://tdibw.com/schedule-tdi/group-practice-240/
END:VEVENT
BEGIN:VEVENT
DTSTART;TZID=Asia/Ho_Chi_Minh:20260209T180000
DTEND;TZID=Asia/Ho_Chi_Minh:20260209T220000
DTSTAMP:20260424T052843
CREATED:20260208T121951Z
LAST-MODIFIED:20260208T121951Z
UID:6532-1770660000-1770674400@tdibw.com
SUMMARY:GROUP PRACTICE
DESCRIPTION:
URL:https://tdibw.com/schedule-tdi/group-practice-239/
END:VEVENT
BEGIN:VEVENT
DTSTART;TZID=Asia/Ho_Chi_Minh:20260209T180000
DTEND;TZID=Asia/Ho_Chi_Minh:20260209T220000
DTSTAMP:20260424T052843
CREATED:20260208T121922Z
LAST-MODIFIED:20260208T121922Z
UID:6530-1770660000-1770674400@tdibw.com
SUMMARY:GROUP PRACTICE
DESCRIPTION:
URL:https://tdibw.com/schedule-tdi/group-practice-238/
END:VEVENT
BEGIN:VEVENT
DTSTART;TZID=Asia/Ho_Chi_Minh:20260208T180000
DTEND;TZID=Asia/Ho_Chi_Minh:20260208T220000
DTSTAMP:20260424T052843
CREATED:20260208T121904Z
LAST-MODIFIED:20260208T121904Z
UID:6528-1770573600-1770588000@tdibw.com
SUMMARY:GROUP PRACTICE
DESCRIPTION:
URL:https://tdibw.com/schedule-tdi/group-practice-237/
END:VEVENT
BEGIN:VEVENT
DTSTART;VALUE=DATE:20260208
DTEND;VALUE=DATE:20260211
DTSTAMP:20260424T052843
CREATED:20260208T122627Z
LAST-MODIFIED:20260208T122627Z
UID:6576-1770508800-1770767999@tdibw.com
SUMMARY:VAJRASATTVA PRACTICE
DESCRIPTION:
URL:https://tdibw.com/schedule-tdi/vajrasattva-practice-3/
END:VEVENT
BEGIN:VEVENT
DTSTART;TZID=Asia/Ho_Chi_Minh:20260207T200000
DTEND;TZID=Asia/Ho_Chi_Minh:20260207T220000
DTSTAMP:20260424T052843
CREATED:20260208T122939Z
LAST-MODIFIED:20260208T122939Z
UID:6596-1770494400-1770501600@tdibw.com
SUMMARY:DHARMA ZOOM
DESCRIPTION:CHI TIẾT CHƯƠNG TRÌNH: Chúng tôi xin trân trọng thông báo về chương trình thảo luận Phật pháp trực tuyến qua Zoom. Đây là cơ hội để quý Phật tử và những người quan tâm có thể trực tiếp thảo luận\, trao đổi về Phật pháp với TDI. \nĐĂNG KÝ: Quý vị có thể liên hệ trực tiếp qua Facebook tại Gendun0 để nhận thông tin về Zoom ID và mật khẩu. \nLƯU Ý: Để tạo không khí thân mật và hiệu quả\, chúng tôi khuyến khích mọi người mở camera khi tham gia Zoom. \nXin trân trọng kính mời quý vị tham gia và cùng nhau chia sẻ những hiểu biết và trải nghiệm về Phật pháp. \nLiên hệ đăng ký và nhận thông tin Zoom: Facebook: Gendun0 \nChúng tôi mong đợi được gặp quý vị trong buổi thảo luận. Om Ami Dewa Hrih!
URL:https://tdibw.com/schedule-tdi/dharma-zoom-63/
END:VEVENT
BEGIN:VEVENT
DTSTART;TZID=Asia/Ho_Chi_Minh:20260207T180000
DTEND;TZID=Asia/Ho_Chi_Minh:20260207T190000
DTSTAMP:20260424T052843
CREATED:20260208T122434Z
LAST-MODIFIED:20260208T122434Z
UID:6564-1770487200-1770490800@tdibw.com
SUMMARY:GROUP SÁM HỐI
DESCRIPTION:
URL:https://tdibw.com/schedule-tdi/group-sam-hoi-28/
END:VEVENT
BEGIN:VEVENT
DTSTART;TZID=Asia/Ho_Chi_Minh:20260206T180000
DTEND;TZID=Asia/Ho_Chi_Minh:20260206T220000
DTSTAMP:20260424T052843
CREATED:20260208T121820Z
LAST-MODIFIED:20260208T121820Z
UID:6526-1770400800-1770415200@tdibw.com
SUMMARY:GROUP PRACTICE
DESCRIPTION:
URL:https://tdibw.com/schedule-tdi/group-practice-236/
END:VEVENT
BEGIN:VEVENT
DTSTART;TZID=Asia/Ho_Chi_Minh:20260205T180000
DTEND;TZID=Asia/Ho_Chi_Minh:20260205T220000
DTSTAMP:20260424T052843
CREATED:20260208T121802Z
LAST-MODIFIED:20260208T121802Z
UID:6524-1770314400-1770328800@tdibw.com
SUMMARY:GROUP PRACTICE
DESCRIPTION:
URL:https://tdibw.com/schedule-tdi/group-practice-235/
END:VEVENT
BEGIN:VEVENT
DTSTART;VALUE=DATE:20260205
DTEND;VALUE=DATE:20260206
DTSTAMP:20260424T052843
CREATED:20260208T122610Z
LAST-MODIFIED:20260208T122610Z
UID:6574-1770249600-1770335999@tdibw.com
SUMMARY:GURU PRACTICE
DESCRIPTION:
URL:https://tdibw.com/schedule-tdi/guru-practice/
END:VEVENT
BEGIN:VEVENT
DTSTART;TZID=Asia/Ho_Chi_Minh:20260204T180000
DTEND;TZID=Asia/Ho_Chi_Minh:20260204T220000
DTSTAMP:20260424T052843
CREATED:20260208T121742Z
LAST-MODIFIED:20260208T121742Z
UID:6522-1770228000-1770242400@tdibw.com
SUMMARY:GROUP PRACTICE
DESCRIPTION:
URL:https://tdibw.com/schedule-tdi/group-practice-234/
END:VEVENT
BEGIN:VEVENT
DTSTART;TZID=Asia/Ho_Chi_Minh:20260203T180000
DTEND;TZID=Asia/Ho_Chi_Minh:20260203T220000
DTSTAMP:20260424T052843
CREATED:20260208T121723Z
LAST-MODIFIED:20260208T121723Z
UID:6520-1770141600-1770156000@tdibw.com
SUMMARY:GROUP PRACTICE
DESCRIPTION:
URL:https://tdibw.com/schedule-tdi/group-practice-233/
END:VEVENT
BEGIN:VEVENT
DTSTART;TZID=Asia/Ho_Chi_Minh:20260202T180000
DTEND;TZID=Asia/Ho_Chi_Minh:20260202T220000
DTSTAMP:20260424T052843
CREATED:20260208T121702Z
LAST-MODIFIED:20260208T121702Z
UID:6518-1770055200-1770069600@tdibw.com
SUMMARY:GROUP PRACTICE
DESCRIPTION:
URL:https://tdibw.com/schedule-tdi/group-practice-232/
END:VEVENT
BEGIN:VEVENT
DTSTART;TZID=Asia/Ho_Chi_Minh:20260201T180000
DTEND;TZID=Asia/Ho_Chi_Minh:20260201T220000
DTSTAMP:20260424T052843
CREATED:20260208T121624Z
LAST-MODIFIED:20260208T121624Z
UID:6516-1769968800-1769983200@tdibw.com
SUMMARY:GROUP PRACTICE
DESCRIPTION:
URL:https://tdibw.com/schedule-tdi/group-practice-231/
END:VEVENT
BEGIN:VEVENT
DTSTART;VALUE=DATE:20260201
DTEND;VALUE=DATE:20260202
DTSTAMP:20260424T052843
CREATED:20260208T122558Z
LAST-MODIFIED:20260208T122558Z
UID:6572-1769904000-1769990399@tdibw.com
SUMMARY:SOJONG / PHOWA
DESCRIPTION:
URL:https://tdibw.com/schedule-tdi/sojong-phowa-30/
END:VEVENT
BEGIN:VEVENT
DTSTART;TZID=Asia/Ho_Chi_Minh:20260131T180000
DTEND;TZID=Asia/Ho_Chi_Minh:20260131T220000
DTSTAMP:20260424T052843
CREATED:20260113T140017Z
LAST-MODIFIED:20260113T140017Z
UID:6469-1769882400-1769896800@tdibw.com
SUMMARY:GROUP PRACTICE
DESCRIPTION:
URL:https://tdibw.com/schedule-tdi/group-practice-230/
END:VEVENT
BEGIN:VEVENT
DTSTART;TZID=Asia/Ho_Chi_Minh:20260130T180000
DTEND;TZID=Asia/Ho_Chi_Minh:20260130T220000
DTSTAMP:20260424T052843
CREATED:20260113T135958Z
LAST-MODIFIED:20260113T135958Z
UID:6467-1769796000-1769810400@tdibw.com
SUMMARY:GROUP PRACTICE
DESCRIPTION:
URL:https://tdibw.com/schedule-tdi/group-practice-229/
END:VEVENT
BEGIN:VEVENT
DTSTART;TZID=Asia/Ho_Chi_Minh:20260129T180000
DTEND;TZID=Asia/Ho_Chi_Minh:20260129T220000
DTSTAMP:20260424T052843
CREATED:20260113T135938Z
LAST-MODIFIED:20260113T135938Z
UID:6465-1769709600-1769724000@tdibw.com
SUMMARY:GROUP PRACTICE
DESCRIPTION:
URL:https://tdibw.com/schedule-tdi/group-practice-228/
END:VEVENT
BEGIN:VEVENT
DTSTART;TZID=Asia/Ho_Chi_Minh:20260128T180000
DTEND;TZID=Asia/Ho_Chi_Minh:20260128T220000
DTSTAMP:20260424T052843
CREATED:20260113T135918Z
LAST-MODIFIED:20260113T135918Z
UID:6463-1769623200-1769637600@tdibw.com
SUMMARY:GROUP PRACTICE
DESCRIPTION:
URL:https://tdibw.com/schedule-tdi/group-practice-227/
END:VEVENT
BEGIN:VEVENT
DTSTART;VALUE=DATE:20260128
DTEND;VALUE=DATE:20260129
DTSTAMP:20260424T052843
CREATED:20260113T140634Z
LAST-MODIFIED:20260113T140634Z
UID:6505-1769558400-1769644799@tdibw.com
SUMMARY:TSOG GURU
DESCRIPTION:
URL:https://tdibw.com/schedule-tdi/tsog-guru-21/
END:VEVENT
BEGIN:VEVENT
DTSTART;TZID=Asia/Ho_Chi_Minh:20260127T220000
DTEND;TZID=Asia/Ho_Chi_Minh:20260127T230000
DTSTAMP:20260424T052843
CREATED:20260113T140615Z
LAST-MODIFIED:20260113T140615Z
UID:6503-1769551200-1769554800@tdibw.com
SUMMARY:ARYA TARA LL
DESCRIPTION:
URL:https://tdibw.com/schedule-tdi/arya-tara-ll-12/
END:VEVENT
BEGIN:VEVENT
DTSTART;TZID=Asia/Ho_Chi_Minh:20260127T180000
DTEND;TZID=Asia/Ho_Chi_Minh:20260127T220000
DTSTAMP:20260424T052843
CREATED:20260113T135858Z
LAST-MODIFIED:20260113T135858Z
UID:6461-1769536800-1769551200@tdibw.com
SUMMARY:GROUP PRACTICE
DESCRIPTION:
URL:https://tdibw.com/schedule-tdi/group-practice-226/
END:VEVENT
BEGIN:VEVENT
DTSTART;TZID=Asia/Ho_Chi_Minh:20260126T220000
DTEND;TZID=Asia/Ho_Chi_Minh:20260127T000000
DTSTAMP:20260424T052843
CREATED:20260113T140553Z
LAST-MODIFIED:20260113T140553Z
UID:6501-1769464800-1769472000@tdibw.com
SUMMARY:MEDICINE BA
DESCRIPTION:
URL:https://tdibw.com/schedule-tdi/medicine-ba-6/
END:VEVENT
BEGIN:VEVENT
DTSTART;TZID=Asia/Ho_Chi_Minh:20260126T180000
DTEND;TZID=Asia/Ho_Chi_Minh:20260126T220000
DTSTAMP:20260424T052843
CREATED:20260113T135839Z
LAST-MODIFIED:20260113T135839Z
UID:6459-1769450400-1769464800@tdibw.com
SUMMARY:GROUP PRACTICE
DESCRIPTION:
URL:https://tdibw.com/schedule-tdi/group-practice-225/
END:VEVENT
END:VCALENDAR