BEGIN:VCALENDAR
VERSION:2.0
PRODID:-//The Dharma Institute - ECPv6.15.20//NONSGML v1.0//EN
CALSCALE:GREGORIAN
METHOD:PUBLISH
X-WR-CALNAME:The Dharma Institute
X-ORIGINAL-URL:https://tdibw.com
X-WR-CALDESC:Sự kiện cho The Dharma Institute
REFRESH-INTERVAL;VALUE=DURATION:PT1H
X-Robots-Tag:noindex
X-PUBLISHED-TTL:PT1H
BEGIN:VTIMEZONE
TZID:Asia/Ho_Chi_Minh
BEGIN:STANDARD
TZOFFSETFROM:+0700
TZOFFSETTO:+0700
TZNAME:+07
DTSTART:20250101T000000
END:STANDARD
END:VTIMEZONE
BEGIN:VEVENT
DTSTART;TZID=Asia/Ho_Chi_Minh:20260130T180000
DTEND;TZID=Asia/Ho_Chi_Minh:20260130T220000
DTSTAMP:20260423T223824
CREATED:20260113T135958Z
LAST-MODIFIED:20260113T135958Z
UID:6467-1769796000-1769810400@tdibw.com
SUMMARY:GROUP PRACTICE
DESCRIPTION:
URL:https://tdibw.com/schedule-tdi/group-practice-229/
END:VEVENT
END:VCALENDAR